BEGIN:VCALENDAR
VERSION:2.0
PRODID:-//The Burt-Stark Mansion in Abbeville, South Carolina - ECPv4.6.10.1//NONSGML v1.0//EN
CALSCALE:GREGORIAN
METHOD:PUBLISH
X-WR-CALNAME:The Burt-Stark Mansion in Abbeville, South Carolina
X-ORIGINAL-URL:http://www.burtstark.com
X-WR-CALDESC:Events for The Burt-Stark Mansion in Abbeville, South Carolina
BEGIN:VEVENT
DTSTART;TZID=UTC+0:20160408T130000
DTEND;TZID=UTC+0:20160408T170000
DTSTAMP:20260421T103941
CREATED:20160325T191432Z
LAST-MODIFIED:20160325T191432Z
UID:15297-1460120400-1460134800@www.burtstark.com
SUMMARY:High School Prom Pictures
DESCRIPTION:
URL:http://www.burtstark.com/calendar/high-school-prom-pictures/
END:VEVENT
END:VCALENDAR